BEGIN:VCALENDAR
VERSION:2.0
PRODID:-//wp-events-plugin.com//7.2.3.1//EN
TZID:Europe/Zurich
X-WR-TIMEZONE:Europe/Zurich
BEGIN:VEVENT
UID:8@retrogamelevel1-1.ch
DTSTART;TZID=Europe/Zurich:20230423T150000
DTEND;TZID=Europe/Zurich:20230423T220000
DTSTAMP:20230416T200809Z
URL:https://retrogamelevel1-1.ch/events/next-level-unlocked/
SUMMARY:Next Level Unlocked
DESCRIPTION:Am grossen Gaming Event in der Aura Zürich am kommenden Wochen
 ende dürfen auch RETRO GAME LEVE 1-1 nicht fehlen! Denn was wäre das Gam
 ing heute wenn die Retro Games nicht den Pfad hierfür geebnet hätten?
ATTACH;FMTTYPE=image/jpeg:https://i0.wp.com/retrogamelevel1-1.ch/wp-conten
 t/uploads/2023/04/EE6AA9DB-F9E0-4008-B46F-E038B3EABD95.jpeg?fit=1351%2C192
 0&ssl=1
CATEGORIES:Messe
LOCATION:Aura Zürich\, Bleicherweg 5\, Zürich\, 8001\, Schweiz
X-APPLE-STRUCTURED-LOCATION;VALUE=URI;X-ADDRESS=Bleicherweg 5\, Zürich\, 8
 001\, Schweiz;X-APPLE-RADIUS=100;X-TITLE=Aura Zürich:geo:0,0
END:VEVENT
BEGIN:VTIMEZONE
TZID:Europe/Zurich
X-LIC-LOCATION:Europe/Zurich
BEGIN:DAYLIGHT
DTSTART:20230326T030000
TZOFFSETFROM:+0100
TZOFFSETTO:+0200
TZNAME:CEST
END:DAYLIGHT
END:VTIMEZONE
END:VCALENDAR